BEGIN:VCALENDAR
VERSION:2.0
PRODID:-//Sportkegeln - ECPv6.12.0.1//NONSGML v1.0//EN
CALSCALE:GREGORIAN
METHOD:PUBLISH
X-ORIGINAL-URL:https://www.linzag-sport.at/sportkegeln
X-WR-CALDESC:Veranstaltungen für Sportkegeln
REFRESH-INTERVAL;VALUE=DURATION:PT1H
X-Robots-Tag:noindex
X-PUBLISHED-TTL:PT1H
BEGIN:VTIMEZONE
TZID:Europe/Vienna
BEGIN:DAYLIGHT
TZOFFSETFROM:+0100
TZOFFSETTO:+0200
TZNAME:CEST
DTSTART:20240331T010000
END:DAYLIGHT
BEGIN:STANDARD
TZOFFSETFROM:+0200
TZOFFSETTO:+0100
TZNAME:CET
DTSTART:20241027T010000
END:STANDARD
END:VTIMEZONE
BEGIN:VEVENT
DTSTART;TZID=Europe/Vienna:20240824T100000
DTEND;TZID=Europe/Vienna:20240824T200000
DTSTAMP:20260421T143257
CREATED:20240617T183231Z
LAST-MODIFIED:20240617T184031Z
UID:10000803-1724493600-1724529600@www.linzag-sport.at
SUMMARY:Sommerausflug 2024 - Scheiblingstein
DESCRIPTION:Unser heuriger Sommerausflug – die Parcoursrunde zahlt die Sektion 😉 \nACHTUNG: Wir haben den SV-Bus für 9 Personen und einen PKW für 3-4 Personen gratis zur Verfügung!!!\nAbfahrt um 08:00 bei hinterer Einfahrt zum Linz AG-Gelände\n(zwischen Oberfeldstr. 8 und ehem. Wick-Gebäude) \n\n\n\n\n\nNummer: 11/24\n\n\nStatus: Buchung möglich
URL:https://www.linzag-sport.at/sportkegeln/event/sommerausflug-2024-scheiblingstein/
LOCATION:Tullnerstr. 5\, 3400 Klosterneuburg\, Tullnerstraße 5\, Klosterneuburg\, Niederösterreich\, 3400\, Österreich
CATEGORIES:Bogensport
END:VEVENT
END:VCALENDAR