BEGIN:VCALENDAR
VERSION:2.0
PRODID:-//Sportkegeln - ECPv6.12.0.1//NONSGML v1.0//EN
CALSCALE:GREGORIAN
METHOD:PUBLISH
X-ORIGINAL-URL:https://www.linzag-sport.at/sportkegeln
X-WR-CALDESC:Veranstaltungen für Sportkegeln
REFRESH-INTERVAL;VALUE=DURATION:PT1H
X-Robots-Tag:noindex
X-PUBLISHED-TTL:PT1H
BEGIN:VTIMEZONE
TZID:Europe/Vienna
BEGIN:DAYLIGHT
TZOFFSETFROM:+0100
TZOFFSETTO:+0200
TZNAME:CEST
DTSTART:20250330T010000
END:DAYLIGHT
BEGIN:STANDARD
TZOFFSETFROM:+0200
TZOFFSETTO:+0100
TZNAME:CET
DTSTART:20251026T010000
END:STANDARD
END:VTIMEZONE
BEGIN:VEVENT
DTSTART;TZID=Europe/Vienna:20250321T070000
DTEND;TZID=Europe/Vienna:20250323T180000
DTSTAMP:20260421T160130
CREATED:20241101T201619Z
LAST-MODIFIED:20250127T075931Z
UID:10001623-1742540400-1742752800@www.linzag-sport.at
SUMMARY:Ski unlimited
DESCRIPTION:Ski unlimited Saalbach – Hinterglemm\nWenn die Tage länger und die Sonnenstunden mehr werden\, laden die Pisten & Hänge im „Home of Lässig“  zum Sonnenskilauf ein! \nLeistungen: \nHin- und Rückfahrt mit Kleinbus \n3-tages Skipass \nHalbpension im ***Hotel Pension Falkenstein \nToplage direkt an der Piste \nMögliche Betreuung in Gruppen durch unsere staatlich geprüften Instruktoren \nTermin \nFreitag\, 21.03.25 – Sonntag\, 23.03.25 \nAnmeldeschluss: 25.02.25 \nKosten: \nErwachsene: € 456\,- \nAngeführte Preise gelten nur für Sportvereins- und ÖSV-Mitglieder! \nKursleitung: \nHarald Koll\, 0664-803407282 \nHinweis: Als Veranstalter lehnen wir jede Haftung gegenüber TeilnehmerInnen und dritten Personen ab.\nDie TeilnehmerInnen sind mit der Nutzung der bei der Veranstaltung gemachten Fotos und Filmaufnahmen einverstanden.
URL:https://www.linzag-sport.at/sportkegeln/event/ski-unlimited/
LOCATION:Saalbach – Hinterglemm
CATEGORIES:Skilauf
ORGANIZER;CN="Sektion Skilauf Koll":MAILTO:h.koll@linzag.at
END:VEVENT
END:VCALENDAR