BEGIN:VCALENDAR
VERSION:2.0
PRODID:-//Sportkegeln - ECPv6.12.0.1//NONSGML v1.0//EN
CALSCALE:GREGORIAN
METHOD:PUBLISH
X-ORIGINAL-URL:https://www.linzag-sport.at/sportkegeln
X-WR-CALDESC:Veranstaltungen für Sportkegeln
REFRESH-INTERVAL;VALUE=DURATION:PT1H
X-Robots-Tag:noindex
X-PUBLISHED-TTL:PT1H
BEGIN:VTIMEZONE
TZID:Europe/Vienna
BEGIN:DAYLIGHT
TZOFFSETFROM:+0100
TZOFFSETTO:+0200
TZNAME:CEST
DTSTART:20240331T010000
END:DAYLIGHT
BEGIN:STANDARD
TZOFFSETFROM:+0200
TZOFFSETTO:+0100
TZNAME:CET
DTSTART:20241027T010000
END:STANDARD
END:VTIMEZONE
BEGIN:VEVENT
DTSTART;TZID=Europe/Vienna:20241012T100000
DTEND;TZID=Europe/Vienna:20241012T180000
DTSTAMP:20260421T160153
CREATED:20240617T184505Z
LAST-MODIFIED:20250108T084539Z
UID:10000806-1728727200-1728756000@www.linzag-sport.at
SUMMARY:Bogen-Ausflug "Waldenfels"
DESCRIPTION:Wir fahren gemeinsam zu einem Parcours auf eine FUN-Runde zur Förderung unserer Geselligkeit…\nDer Sportverein stellt uns einen PKW für 4 Personen gratis zur Verfügung. \nAbfahrt: 09:00 bei hinterer Einfahrt zum Linz AG-Gelände (zw. Oberfeldstr. 8 und neuem Linz Netz-Gebäude)
URL:https://www.linzag-sport.at/sportkegeln/event/bogen-ausflug-waldenfels/
LOCATION:Hayrl 16\, 4193 Reichenthal\, Hayrl 16\, Reichenthal\, Oberösterreich\, 4193\, Österreich
CATEGORIES:Bogensport
END:VEVENT
END:VCALENDAR