BEGIN:VCALENDAR
VERSION:2.0
PRODID:-//Sportkegeln - ECPv6.12.0.1//NONSGML v1.0//EN
CALSCALE:GREGORIAN
METHOD:PUBLISH
X-ORIGINAL-URL:https://www.linzag-sport.at/sportkegeln
X-WR-CALDESC:Veranstaltungen für Sportkegeln
REFRESH-INTERVAL;VALUE=DURATION:PT1H
X-Robots-Tag:noindex
X-PUBLISHED-TTL:PT1H
BEGIN:VTIMEZONE
TZID:Europe/Vienna
BEGIN:DAYLIGHT
TZOFFSETFROM:+0100
TZOFFSETTO:+0200
TZNAME:CEST
DTSTART:20250330T010000
END:DAYLIGHT
BEGIN:STANDARD
TZOFFSETFROM:+0200
TZOFFSETTO:+0100
TZNAME:CET
DTSTART:20251026T010000
END:STANDARD
END:VTIMEZONE
BEGIN:VEVENT
DTSTART;TZID=Europe/Vienna:20250112T070000
DTEND;TZID=Europe/Vienna:20250118T180000
DTSTAMP:20260421T213841
CREATED:20241017T050032Z
LAST-MODIFIED:20241107T052649Z
UID:10001593-1736665200-1737223200@www.linzag-sport.at
SUMMARY:Südtirol Woche
DESCRIPTION:SÜDTIROL WOCHE  – Soraga/Fassatal\nDie Skiregion rund um das Fassatal bietet ein abwechslungsreiches Skivergnügen mit einer traumhaften Kulisse in den Dolomiten! \nLeistungen: \nHin- und Rückfahrt sowie Transfer zu den Skipisten mit Reisebus \n5-Tage-Skipass \n6 Tage Halbpension (inkl. 1 x Galadiner) \nBenützung des Wellnessbereichs (inkl. Leihbademantel) \nBetreuung in Gruppen durch unsere staatlich geprüften Instruktoren \nTermin \nSonntag\, 12. Jänner bis Samstag\, 18. Jänner 2025 \nAnmeldeschluss: 8. November 2024 \nUnterkunft: \n***Hotel „DES ALPES“\, Strada de Palua 4\, 38030 Soraga \nKosten: \nErwachsene: € 1.190\,-  /  Senioren: € 1.160\,- (geb. vor 27.11.58) \nEinzelzimmerzuschlag: € 200\,- \nAngeführte Preise gelten nur für Sportvereins- und ÖSV-Mitglieder! \nKursleitung: \nWolfgang Undesser\, 0664-803403139 \nHinweis: Als Veranstalter lehnen wir jede Haftung gegenüber TeilnehmerInnen und dritten Personen ab.\nDie TeilnehmerInnen sind mit der Nutzung der bei der Veranstaltung gemachten Fotos und Filmaufnahmen einverstanden.
URL:https://www.linzag-sport.at/sportkegeln/event/suedtirol-woche/
CATEGORIES:Skilauf
ORGANIZER;CN="Sektion Skilauf Undesser":MAILTO:w.undesser@linzag.at
END:VEVENT
END:VCALENDAR