BEGIN:VCALENDAR
VERSION:2.0
PRODID:-//Sportkegeln - ECPv6.12.0.1//NONSGML v1.0//EN
CALSCALE:GREGORIAN
METHOD:PUBLISH
X-WR-CALNAME:Sportkegeln
X-ORIGINAL-URL:https://www.linzag-sport.at/sportkegeln
X-WR-CALDESC:Veranstaltungen für Sportkegeln
REFRESH-INTERVAL;VALUE=DURATION:PT1H
X-Robots-Tag:noindex
X-PUBLISHED-TTL:PT1H
BEGIN:VTIMEZONE
TZID:Europe/Vienna
BEGIN:DAYLIGHT
TZOFFSETFROM:+0100
TZOFFSETTO:+0200
TZNAME:CEST
DTSTART:20240331T010000
END:DAYLIGHT
BEGIN:STANDARD
TZOFFSETFROM:+0200
TZOFFSETTO:+0100
TZNAME:CET
DTSTART:20241027T010000
END:STANDARD
BEGIN:DAYLIGHT
TZOFFSETFROM:+0100
TZOFFSETTO:+0200
TZNAME:CEST
DTSTART:20250330T010000
END:DAYLIGHT
BEGIN:STANDARD
TZOFFSETFROM:+0200
TZOFFSETTO:+0100
TZNAME:CET
DTSTART:20251026T010000
END:STANDARD
END:VTIMEZONE
BEGIN:VEVENT
DTSTART;TZID=Europe/Vienna:20251004T100000
DTEND;TZID=Europe/Vienna:20251004T160000
DTSTAMP:20260421T125530
CREATED:20241210T123324Z
LAST-MODIFIED:20250114T101935Z
UID:10001668-1759572000-1759593600@www.linzag-sport.at
SUMMARY:Bogen-Vereinsmeisterschaft "Treffling"
DESCRIPTION:Wie jedes Jahr veranstalten wir im ersten Wochenende im Oktober (30.09. ist Saisonende) unsere Vereinsmeisterschaft.\nDer Sportverein stellt uns einen PKW für 4 Personen gratis zur Verfügung. \nAlle Teilnehmer \, die keine Jahreskarte haben\, bekommen von der Sektion die Parcoursrunde bezahlt. \nAnschließend kehren wir in ein Gasthaus ein\, wo die Siegerehrung stattfindet – in Verbindung mit der Jahresabschlussfeier.
URL:https://www.linzag-sport.at/sportkegeln/event/bogen-vereinsmeisterschaft-treffling/
LOCATION:Parcours Treffling:\, Riedegg 1\, Alberndorf\, 4211\, Austria
CATEGORIES:Bogensport
END:VEVENT
BEGIN:VEVENT
DTSTART;TZID=Europe/Vienna:20250614T090000
DTEND;TZID=Europe/Vienna:20250614T150000
DTSTAMP:20260421T125530
CREATED:20241210T122406Z
LAST-MODIFIED:20250114T102230Z
UID:10001667-1749891600-1749913200@www.linzag-sport.at
SUMMARY:Bogen-Ausflug "Sandgrube"
DESCRIPTION:Wir fahren gemeinsam zu einem Parcours auf eine FUN-Runde zur Förderung unserer Geselligkeit…\nDer Sportverein stellt uns einen BUS für 9 Personen gratis zur Verfügung. \nAbfahrt: 08:00 bei hinterer Einfahrt zum Linz AG-Gelände (zwischen Oberfeldstr. 8 und neuem Linz Netz-Gebäude)
URL:https://www.linzag-sport.at/sportkegeln/event/bogen-ausflug-sandgrube/
LOCATION:Parcours Sandgrube:\, Siegeldorf 10\, Siegeldorf\, 4291\, Austria
CATEGORIES:Bogensport
END:VEVENT
BEGIN:VEVENT
DTSTART;TZID=Europe/Vienna:20250329T100000
DTEND;TZID=Europe/Vienna:20250329T160000
DTSTAMP:20260421T125530
CREATED:20241210T121045Z
LAST-MODIFIED:20250114T102414Z
UID:10001666-1743242400-1743264000@www.linzag-sport.at
SUMMARY:Bogen-Frühlingsrunde "Treffling"
DESCRIPTION:Wie jedes Jahr starten wir mit der Frühlingsrunde unsere Aktivitäten.\nDer Sportverein stellt uns einen PKW für 4 Personen gratis zur Verfügung. \nAlle Teilnehmer \, die keine Jahreskarte haben\, bekommen von der Sektion die Parcoursrunde bezahlt. \nAbfahrt: 09:00 bei hinterer Einfahrt zum Linz AG-Gelände (zw. Oberfeldstr. 8 und neuem Linz Netz-Gebäude)
URL:https://www.linzag-sport.at/sportkegeln/event/bogen-fruehlingsrunde-treffling/
LOCATION:Parcours Treffling:\, Riedegg 1\, Alberndorf\, 4211\, Austria
CATEGORIES:Bogensport
END:VEVENT
BEGIN:VEVENT
DTSTART;TZID=Europe/Vienna:20241012T100000
DTEND;TZID=Europe/Vienna:20241012T180000
DTSTAMP:20260421T125530
CREATED:20240617T184505Z
LAST-MODIFIED:20250108T084539Z
UID:10000806-1728727200-1728756000@www.linzag-sport.at
SUMMARY:Bogen-Ausflug "Waldenfels"
DESCRIPTION:Wir fahren gemeinsam zu einem Parcours auf eine FUN-Runde zur Förderung unserer Geselligkeit…\nDer Sportverein stellt uns einen PKW für 4 Personen gratis zur Verfügung. \nAbfahrt: 09:00 bei hinterer Einfahrt zum Linz AG-Gelände (zw. Oberfeldstr. 8 und neuem Linz Netz-Gebäude)
URL:https://www.linzag-sport.at/sportkegeln/event/bogen-ausflug-waldenfels/
LOCATION:Hayrl 16\, 4193 Reichenthal\, Hayrl 16\, Reichenthal\, Oberösterreich\, 4193\, Österreich
CATEGORIES:Bogensport
END:VEVENT
BEGIN:VEVENT
DTSTART;TZID=Europe/Vienna:20240824T100000
DTEND;TZID=Europe/Vienna:20240824T200000
DTSTAMP:20260421T125530
CREATED:20240617T183231Z
LAST-MODIFIED:20240617T184031Z
UID:10000803-1724493600-1724529600@www.linzag-sport.at
SUMMARY:Sommerausflug 2024 - Scheiblingstein
DESCRIPTION:Unser heuriger Sommerausflug – die Parcoursrunde zahlt die Sektion 😉 \nACHTUNG: Wir haben den SV-Bus für 9 Personen und einen PKW für 3-4 Personen gratis zur Verfügung!!!\nAbfahrt um 08:00 bei hinterer Einfahrt zum Linz AG-Gelände\n(zwischen Oberfeldstr. 8 und ehem. Wick-Gebäude) \n\n\n\n\n\nNummer: 11/24\n\n\nStatus: Buchung möglich
URL:https://www.linzag-sport.at/sportkegeln/event/sommerausflug-2024-scheiblingstein/
LOCATION:Tullnerstr. 5\, 3400 Klosterneuburg\, Tullnerstraße 5\, Klosterneuburg\, Niederösterreich\, 3400\, Österreich
CATEGORIES:Bogensport
END:VEVENT
BEGIN:VEVENT
DTSTART;TZID=Europe/Vienna:20240720T090000
DTEND;TZID=Europe/Vienna:20240720T190000
DTSTAMP:20260421T125530
CREATED:20240617T181916Z
LAST-MODIFIED:20250108T084510Z
UID:10000802-1721466000-1721502000@www.linzag-sport.at
SUMMARY:Bogen-Ausflug "Halleralm"
DESCRIPTION:Wir fahren gemeinsam zu einem Parcours auf eine FUN-Runde zur Förderung unserer Geselligkeit…\nDer Sportverein stellt uns einen PKW für 4 Personen gratis zur Verfügung. \nAbfahrt: 07:30 bei hinterer Einfahrt zum Linz AG-Gelände (zw. Oberfeldstr. 8 und neuem Linz Netz-Gebäude)
URL:https://www.linzag-sport.at/sportkegeln/event/bogen-ausflug-halleralm/
LOCATION:Pichlern 18\, 4822 Bad Goisern am Hallstättersee\, Pichlern 18\, Bad Goisern\, Oberösterreich\, 4822\, Österreich
CATEGORIES:Bogensport
END:VEVENT
BEGIN:VEVENT
DTSTART;TZID=Europe/Vienna:20240630T090000
DTEND;TZID=Europe/Vienna:20240630T190000
DTSTAMP:20260421T125530
CREATED:20240617T181642Z
LAST-MODIFIED:20250108T083853Z
UID:10000801-1719738000-1719774000@www.linzag-sport.at
SUMMARY:Bogen-Ausflug "Lackenhof am Ötscher"
DESCRIPTION:Wir fahren gemeinsam zu einem Parcours auf eine FUN-Runde zur Förderung unserer Geselligkeit…\nDer Sportverein stellt uns einen Bus für 9 Personen gratis zur Verfügung. \nAbfahrt: 07:30 bei hinterer Einfahrt zum Linz AG-Gelände (zwischen Oberfeldstr. 8 und neuem Linz Netz-Gebäude)
URL:https://www.linzag-sport.at/sportkegeln/event/bogen-ausflug-lackenhof-am-oetscher/
LOCATION:Weitental 51\, 3295 Lackenhof am Ötscher\, Weitental 51\, Lackenhof am Ötscher\, Niederösterreich\, 3295
CATEGORIES:Bogensport
END:VEVENT
END:VCALENDAR