BEGIN:VCALENDAR
VERSION:2.0
PRODID:-//Sportkegeln - ECPv6.12.0.1//NONSGML v1.0//EN
CALSCALE:GREGORIAN
METHOD:PUBLISH
X-ORIGINAL-URL:https://www.linzag-sport.at/sportkegeln
X-WR-CALDESC:Veranstaltungen für Sportkegeln
REFRESH-INTERVAL;VALUE=DURATION:PT1H
X-Robots-Tag:noindex
X-PUBLISHED-TTL:PT1H
BEGIN:VTIMEZONE
TZID:Europe/Vienna
BEGIN:DAYLIGHT
TZOFFSETFROM:+0100
TZOFFSETTO:+0200
TZNAME:CEST
DTSTART:20250330T010000
END:DAYLIGHT
BEGIN:STANDARD
TZOFFSETFROM:+0200
TZOFFSETTO:+0100
TZNAME:CET
DTSTART:20251026T010000
END:STANDARD
END:VTIMEZONE
BEGIN:VEVENT
DTSTART;TZID=Europe/Vienna:20250402T180000
DTEND;TZID=Europe/Vienna:20250402T200000
DTSTAMP:20260422T134845
CREATED:20241212T070103Z
LAST-MODIFIED:20241212T071624Z
UID:10001743-1743616800-1743624000@www.linzag-sport.at
SUMMARY:Boulder- und Klettertechniktraining für Fortgeschrittene
DESCRIPTION:Details zur Ausschreibung\nTermin: Mittwoch 26.03.2025 – 23.04.2025 \nKursdauer und Uhrzeit: 4 Mittwoche in Folge\, Jeweils 18:00 – 20:00 \nOrt: Kletterhalle Linz/Auwiesen\, Auwiesenstr. 202\, 4030 Linz bzw. Boulderbar Linz\, Doktor-Hermann-Thurner-Straße 1\, 4060 Leonding \nKursinhalt: Vertiefung des Problems der „Offenen Tür“\, Kennenlernen und Üben dynamischer Kletterbewegungen und Sprüngen\, Klettertechnik in steilem Gelände (starker Überhang & Dach)\, Kennenlernen und Anwenden von spez. Techniken (z.B. Dropknee & Hooks)\, Einsatz von Videoanalysen für individuelle Bewegungsprobleme\, Kursabschluss (4. Einheit) in einer der Linzer Boulderhallen zur Technikanwendung \nTeilnehmeranzahl: Mind. 4 Teilnehmer*innen\, Max. 6 Teilnehmer*innen \nVoraussetzung für diesen Kurs: Naturfreundemitgliedschaft\, Freude an der Bewegung\, Sicheres Bouldern bis Schwierigkeit Fb 4c (in KH Auwiesen Level 2) \nAusrüstung: bequeme und passende Sportkleidung\, Trinkflasche (keine Glasflaschen\, keine Kohlensäure) \nKosten pro Teilnehmer: 135\,00 € (Preis beinhaltet Kursleitung\, Leihmaterial\, Halleneintritt) \nAnmeldung: Anmeldung schriftlich per E-Mail an berg&action@linzag.at \nAnmeldeschluss: Montag\, 10.03.2025 \nRücktritt/Storno:\nAb 2 Wochen vor Kurbeginn beträgt die Stornogebühr 50% der Kurskosten.\nAb 1 Woche vor Kursbeginn beträgt die Stornogebühr 80% der Kurskosten.\nBei selbstverschuldetem ungerechtfertigtem Nichterscheinen bzw. Kursabbruch\, 100% der Kurskosten. \nKontaktperson: Peter Mittermayr E-Mail: berg&action@linzag.at\, Tel-DW: 3428
URL:https://www.linzag-sport.at/sportkegeln/event/boulder-und-klettertechniktraining-fuer-fortgeschrittene/2025-04-02/
CATEGORIES:Berg & Action
ATTACH;FMTTYPE=image/jpeg:https://www.linzag-sport.at/sportkegeln/wp-content/uploads/sites/12/2024/12/shutterstock_1683120601-scaled.jpg
END:VEVENT
BEGIN:VEVENT
DTSTART;TZID=Europe/Vienna:20250409T180000
DTEND;TZID=Europe/Vienna:20250409T200000
DTSTAMP:20260422T134845
CREATED:20241212T070103Z
LAST-MODIFIED:20241212T071624Z
UID:10001744-1744221600-1744228800@www.linzag-sport.at
SUMMARY:Boulder- und Klettertechniktraining für Fortgeschrittene
DESCRIPTION:Details zur Ausschreibung\nTermin: Mittwoch 26.03.2025 – 23.04.2025 \nKursdauer und Uhrzeit: 4 Mittwoche in Folge\, Jeweils 18:00 – 20:00 \nOrt: Kletterhalle Linz/Auwiesen\, Auwiesenstr. 202\, 4030 Linz bzw. Boulderbar Linz\, Doktor-Hermann-Thurner-Straße 1\, 4060 Leonding \nKursinhalt: Vertiefung des Problems der „Offenen Tür“\, Kennenlernen und Üben dynamischer Kletterbewegungen und Sprüngen\, Klettertechnik in steilem Gelände (starker Überhang & Dach)\, Kennenlernen und Anwenden von spez. Techniken (z.B. Dropknee & Hooks)\, Einsatz von Videoanalysen für individuelle Bewegungsprobleme\, Kursabschluss (4. Einheit) in einer der Linzer Boulderhallen zur Technikanwendung \nTeilnehmeranzahl: Mind. 4 Teilnehmer*innen\, Max. 6 Teilnehmer*innen \nVoraussetzung für diesen Kurs: Naturfreundemitgliedschaft\, Freude an der Bewegung\, Sicheres Bouldern bis Schwierigkeit Fb 4c (in KH Auwiesen Level 2) \nAusrüstung: bequeme und passende Sportkleidung\, Trinkflasche (keine Glasflaschen\, keine Kohlensäure) \nKosten pro Teilnehmer: 135\,00 € (Preis beinhaltet Kursleitung\, Leihmaterial\, Halleneintritt) \nAnmeldung: Anmeldung schriftlich per E-Mail an berg&action@linzag.at \nAnmeldeschluss: Montag\, 10.03.2025 \nRücktritt/Storno:\nAb 2 Wochen vor Kurbeginn beträgt die Stornogebühr 50% der Kurskosten.\nAb 1 Woche vor Kursbeginn beträgt die Stornogebühr 80% der Kurskosten.\nBei selbstverschuldetem ungerechtfertigtem Nichterscheinen bzw. Kursabbruch\, 100% der Kurskosten. \nKontaktperson: Peter Mittermayr E-Mail: berg&action@linzag.at\, Tel-DW: 3428
URL:https://www.linzag-sport.at/sportkegeln/event/boulder-und-klettertechniktraining-fuer-fortgeschrittene/2025-04-09/
CATEGORIES:Berg & Action
ATTACH;FMTTYPE=image/jpeg:https://www.linzag-sport.at/sportkegeln/wp-content/uploads/sites/12/2024/12/shutterstock_1683120601-scaled.jpg
END:VEVENT
BEGIN:VEVENT
DTSTART;TZID=Europe/Vienna:20250416T180000
DTEND;TZID=Europe/Vienna:20250416T200000
DTSTAMP:20260422T134845
CREATED:20241212T070103Z
LAST-MODIFIED:20241212T071624Z
UID:10001745-1744826400-1744833600@www.linzag-sport.at
SUMMARY:Boulder- und Klettertechniktraining für Fortgeschrittene
DESCRIPTION:Details zur Ausschreibung\nTermin: Mittwoch 26.03.2025 – 23.04.2025 \nKursdauer und Uhrzeit: 4 Mittwoche in Folge\, Jeweils 18:00 – 20:00 \nOrt: Kletterhalle Linz/Auwiesen\, Auwiesenstr. 202\, 4030 Linz bzw. Boulderbar Linz\, Doktor-Hermann-Thurner-Straße 1\, 4060 Leonding \nKursinhalt: Vertiefung des Problems der „Offenen Tür“\, Kennenlernen und Üben dynamischer Kletterbewegungen und Sprüngen\, Klettertechnik in steilem Gelände (starker Überhang & Dach)\, Kennenlernen und Anwenden von spez. Techniken (z.B. Dropknee & Hooks)\, Einsatz von Videoanalysen für individuelle Bewegungsprobleme\, Kursabschluss (4. Einheit) in einer der Linzer Boulderhallen zur Technikanwendung \nTeilnehmeranzahl: Mind. 4 Teilnehmer*innen\, Max. 6 Teilnehmer*innen \nVoraussetzung für diesen Kurs: Naturfreundemitgliedschaft\, Freude an der Bewegung\, Sicheres Bouldern bis Schwierigkeit Fb 4c (in KH Auwiesen Level 2) \nAusrüstung: bequeme und passende Sportkleidung\, Trinkflasche (keine Glasflaschen\, keine Kohlensäure) \nKosten pro Teilnehmer: 135\,00 € (Preis beinhaltet Kursleitung\, Leihmaterial\, Halleneintritt) \nAnmeldung: Anmeldung schriftlich per E-Mail an berg&action@linzag.at \nAnmeldeschluss: Montag\, 10.03.2025 \nRücktritt/Storno:\nAb 2 Wochen vor Kurbeginn beträgt die Stornogebühr 50% der Kurskosten.\nAb 1 Woche vor Kursbeginn beträgt die Stornogebühr 80% der Kurskosten.\nBei selbstverschuldetem ungerechtfertigtem Nichterscheinen bzw. Kursabbruch\, 100% der Kurskosten. \nKontaktperson: Peter Mittermayr E-Mail: berg&action@linzag.at\, Tel-DW: 3428
URL:https://www.linzag-sport.at/sportkegeln/event/boulder-und-klettertechniktraining-fuer-fortgeschrittene/2025-04-16/
CATEGORIES:Berg & Action
ATTACH;FMTTYPE=image/jpeg:https://www.linzag-sport.at/sportkegeln/wp-content/uploads/sites/12/2024/12/shutterstock_1683120601-scaled.jpg
END:VEVENT
END:VCALENDAR