BEGIN:VCALENDAR
VERSION:2.0
PRODID:-//Sportkegeln - ECPv6.12.0.1//NONSGML v1.0//EN
CALSCALE:GREGORIAN
METHOD:PUBLISH
X-ORIGINAL-URL:https://www.linzag-sport.at/sportkegeln
X-WR-CALDESC:Veranstaltungen für Sportkegeln
REFRESH-INTERVAL;VALUE=DURATION:PT1H
X-Robots-Tag:noindex
X-PUBLISHED-TTL:PT1H
BEGIN:VTIMEZONE
TZID:Europe/Vienna
BEGIN:DAYLIGHT
TZOFFSETFROM:+0100
TZOFFSETTO:+0200
TZNAME:CEST
DTSTART:20250330T010000
END:DAYLIGHT
BEGIN:STANDARD
TZOFFSETFROM:+0200
TZOFFSETTO:+0100
TZNAME:CET
DTSTART:20251026T010000
END:STANDARD
BEGIN:DAYLIGHT
TZOFFSETFROM:+0100
TZOFFSETTO:+0200
TZNAME:CEST
DTSTART:20260329T010000
END:DAYLIGHT
BEGIN:STANDARD
TZOFFSETFROM:+0200
TZOFFSETTO:+0100
TZNAME:CET
DTSTART:20261025T010000
END:STANDARD
END:VTIMEZONE
BEGIN:VEVENT
DTSTART;TZID=Europe/Vienna:20250221T160000
DTEND;TZID=Europe/Vienna:20260221T180000
DTSTAMP:20260424T125343
CREATED:20241223T120345Z
LAST-MODIFIED:20250116T084923Z
UID:10001765-1740153600-1771696800@www.linzag-sport.at
SUMMARY:Ausstellungsbesuch - Madame D`Ora - Eleganz und Exzentrik
DESCRIPTION:Dora Kallmus (1881–1963)\, auch bekannt als Madame d’Ora\, zählt international zu den bedeutendsten Fotograf*innen des frühen 20. Jahrhunderts.\n\nAls eine der ersten Modefotograf*innen dokumentiert sie die Kleiderkreationen der Wiener Werkstätte\, und porträtiert die Modeunternehmerin wie Stilikone Emilie Flöge.\n\nDie Ausstellung\, die ausschließlich eigene Sammlungsbestände umfasst\, spannt den Bogen von der Wiener Frühzeit hin zu späteren Werkphasen der Fotografin\, die ab 1925 in Paris lebt.\n\nAusstellungsbesuch Madame D`Ora\nEleganz und Exzentrik\nTERMIN: Freitag\, 21.02.25\nUHRZEIT: 16.00 Uhr\nORT: Francisco Carolinum Linz\, Museumstraße 14\, 4020 Linz \nTREFFPUNKT: vor dem Eingang\nKOSTEN: der Eintritt wird vom Club übernommen\nANMELDUNG: d.reinthaler@linzag.at
URL:https://www.linzag-sport.at/sportkegeln/event/ausstellungsbesuch-madamedora/
CATEGORIES:foto & film
END:VEVENT
BEGIN:VEVENT
DTSTART;TZID=Europe/Vienna:20250315T140000
DTEND;TZID=Europe/Vienna:20250315T180000
DTSTAMP:20260424T125343
CREATED:20241223T112158Z
LAST-MODIFIED:20241223T121503Z
UID:10001763-1742047200-1742061600@www.linzag-sport.at
SUMMARY:Fotowalk - Es grünt so grün
DESCRIPTION:Der Winter ist vorbei – die ersten Frühblüher erwachen zum Leben. Endlich keine Hauben und Handschuhe mehr.\nGemeinsam gehen wir auf einen fotografischen Streifzug und werden die ersten kräftigen Sonnenstrahlen genießen.\nTERMIN: 15.03.25\nUHRZEIT: 14.00 Uhr\nORT: Botanischer Garten Linz\, Roseggerstraße 20\, 4020 Linz\nTREFFPUNKT: vor dem Eingang\nKOSTEN: wird da der Club den Eintritt übernehmen\nANMELDUNG: d.reinthaler@linzag.at
URL:https://www.linzag-sport.at/sportkegeln/event/fotowalk-es-gruent-so-gruen/
CATEGORIES:foto & film
END:VEVENT
END:VCALENDAR