BEGIN:VCALENDAR
VERSION:2.0
PRODID:-//laufen - ECPv6.12.0.1//NONSGML v1.0//EN
CALSCALE:GREGORIAN
METHOD:PUBLISH
X-ORIGINAL-URL:https://www.linzag-sport.at/laufen
X-WR-CALDESC:Veranstaltungen für laufen
REFRESH-INTERVAL;VALUE=DURATION:PT1H
X-Robots-Tag:noindex
X-PUBLISHED-TTL:PT1H
BEGIN:VTIMEZONE
TZID:Europe/Vienna
BEGIN:DAYLIGHT
TZOFFSETFROM:+0100
TZOFFSETTO:+0200
TZNAME:CEST
DTSTART:20250330T010000
END:DAYLIGHT
BEGIN:STANDARD
TZOFFSETFROM:+0200
TZOFFSETTO:+0100
TZNAME:CET
DTSTART:20251026T010000
END:STANDARD
END:VTIMEZONE
BEGIN:VEVENT
DTSTART;TZID=Europe/Vienna:20250524T150000
DTEND;TZID=Europe/Vienna:20250524T190000
DTSTAMP:20260422T025949
CREATED:20241023T105154Z
LAST-MODIFIED:20250311T072258Z
UID:10001609-1748098800-1748113200@www.linzag-sport.at
SUMMARY:Linzathlon
DESCRIPTION:ARE YOU READY TO BEAT THE CITY? \n\n\n\nBist du bereit für einen spektakulären Hindernislauf getarnt als die härteste Sightseeingtour der Welt? Die 10+ km lange Strecke führt vorbei an den schönsten Plätzen der Stadt. Bezwinge dabei die mind. 20 Hindernisse! \nAuf der 5+ km langen Strecke erwarten euch mindestens 10 spannende Hindernisse\, die für jede:n zu meistern sind. Taucht ein in den Großstadt-Jungle und stellt euch der Herausforderung – keine Ausreden mehr! \nEs erwarten dich wieder Hindernisse mit Klassikern wie Monkeyland\, Rock the Wall und viele mehr! \n\n  \nAnmeldung
URL:https://www.linzag-sport.at/laufen/event/linzathlon/
LOCATION:Untere Donaulände\, OÖ\, Austria
CATEGORIES:Laufen
ATTACH;FMTTYPE=image/png:https://www.linzag-sport.at/laufen/wp-content/uploads/sites/3/2024/10/logo-linzathlon-neu-0624.png
ORGANIZER;CN="CompanyCode Werbe GmbH":MAILTO:office@companycode.at
END:VEVENT
END:VCALENDAR