BEGIN:VCALENDAR
VERSION:2.0
PRODID:-//laufen - ECPv6.12.0.1//NONSGML v1.0//EN
CALSCALE:GREGORIAN
METHOD:PUBLISH
X-ORIGINAL-URL:https://www.linzag-sport.at/laufen
X-WR-CALDESC:Veranstaltungen für laufen
REFRESH-INTERVAL;VALUE=DURATION:PT1H
X-Robots-Tag:noindex
X-PUBLISHED-TTL:PT1H
BEGIN:VTIMEZONE
TZID:Europe/Vienna
BEGIN:DAYLIGHT
TZOFFSETFROM:+0100
TZOFFSETTO:+0200
TZNAME:CEST
DTSTART:20250330T010000
END:DAYLIGHT
BEGIN:STANDARD
TZOFFSETFROM:+0200
TZOFFSETTO:+0100
TZNAME:CET
DTSTART:20251026T010000
END:STANDARD
END:VTIMEZONE
BEGIN:VEVENT
DTSTART;TZID=Europe/Vienna:20250427T150000
DTEND;TZID=Europe/Vienna:20250427T170000
DTSTAMP:20260422T064234
CREATED:20241023T103852Z
LAST-MODIFIED:20250311T072757Z
UID:10001607-1745766000-1745773200@www.linzag-sport.at
SUMMARY:Linzer 3-Brückenlauf
DESCRIPTION:Start/Ziel: Untere Donaulände\, Höhe Musikpavillon \nStrecke: ca. 5\,5 km\nFür jede Leistungsklasse geeignet\, nicht für Rollstuhlfahrer*innen geeignet \nStartnummernausgabe: am Donnerstag\, 24.04.2025 von 16 -18 Uhr sowie am Freitag\, 25. 04.2025 von 08:00 – 16:00 Uhr (im KULTUR HOF\, Ludlgasse 16\, 4020 Linz) und am Sonntag\, 27.04.2025\nvon 7-9 Uhr (im Start und Ziel Bereich) \nTeilnahme: Teilnahmeberechtigt sind alle\, die Freude am Laufen haben. Die Anmeldung über TIME2WIN ist Voraussetzung – eine Nachmeldung vor Ort ist zu einer Nachnenngebühr möglich. \nWertungen: Einzelwertung\, Firmen-/Vereinswertung\, Schülercup\, Walking-Wertung\, Lehrlings-Wertung \nSiegerehrung: Musikpavillon – mit Startnummer bei Tombola teilnehmen und wertvolle Sachpreise gewinnen! \n  \nAnmeldung
URL:https://www.linzag-sport.at/laufen/event/linzer-3-brueckenlauf/
LOCATION:Personal Hofmann Stadion Linz\, OÖ\, Austria
CATEGORIES:Laufen
ATTACH;FMTTYPE=image/png:https://www.linzag-sport.at/laufen/wp-content/uploads/sites/3/2024/10/2025-03-10-10_27_44-Dokument6-Word.png
END:VEVENT
END:VCALENDAR