BEGIN:VCALENDAR
VERSION:2.0
PRODID:-//laufen - ECPv6.12.0.1//NONSGML v1.0//EN
CALSCALE:GREGORIAN
METHOD:PUBLISH
X-ORIGINAL-URL:https://www.linzag-sport.at/laufen
X-WR-CALDESC:Veranstaltungen für laufen
REFRESH-INTERVAL;VALUE=DURATION:PT1H
X-Robots-Tag:noindex
X-PUBLISHED-TTL:PT1H
BEGIN:VTIMEZONE
TZID:Europe/Vienna
BEGIN:DAYLIGHT
TZOFFSETFROM:+0100
TZOFFSETTO:+0200
TZNAME:CEST
DTSTART:20240331T010000
END:DAYLIGHT
BEGIN:STANDARD
TZOFFSETFROM:+0200
TZOFFSETTO:+0100
TZNAME:CET
DTSTART:20241027T010000
END:STANDARD
BEGIN:DAYLIGHT
TZOFFSETFROM:+0100
TZOFFSETTO:+0200
TZNAME:CEST
DTSTART:20250330T010000
END:DAYLIGHT
BEGIN:STANDARD
TZOFFSETFROM:+0200
TZOFFSETTO:+0100
TZNAME:CET
DTSTART:20251026T010000
END:STANDARD
BEGIN:DAYLIGHT
TZOFFSETFROM:+0100
TZOFFSETTO:+0200
TZNAME:CEST
DTSTART:20260329T010000
END:DAYLIGHT
BEGIN:STANDARD
TZOFFSETFROM:+0200
TZOFFSETTO:+0100
TZNAME:CET
DTSTART:20261025T010000
END:STANDARD
END:VTIMEZONE
BEGIN:VEVENT
DTSTART;TZID=Europe/Vienna:20260412T083000
DTEND;TZID=Europe/Vienna:20260412T180000
DTSTAMP:20260421T192921
CREATED:20250310T092326Z
LAST-MODIFIED:20250717T074246Z
UID:10001789-1775982600-1776016800@www.linzag-sport.at
SUMMARY:24. Oberbank Linz Donau Marathon 2026
DESCRIPTION:9\nBewerbe\nAm Marathon-Wochenende kommen alle Läufer*innen in unterschiedlichen Bewerben sportlich auf ihre Rechnung…Marathonbewerbe 2026 \n24\nJahre\nDer Oberbank Linz Donau Marathon ist seit 2002 ein Festival der puren Be­wegungs­freude und feiert sein Jubiläum.Zu den News \n20.000\nTeilnehmer*innen\nBis zu 20.000 Teilnehmende und eine schnelle Laufstrecke machen den Linz Marathon jedes Jahr erneut zu einem tollen Lauffest.Infos für Athlet*innen \n100.000\nBesucher*innen\nDurch die Besucher*innen wird der Oberbank Linz Donau Marathon zu einem Sportevent mit ausgezeichneter Stimmung.\n\nAusschreibung
URL:https://www.linzag-sport.at/laufen/event/23-oberbank-linz-donau-marathon/
LOCATION:Hauptplatz Linz\, OÖ\, Austria
CATEGORIES:Laufen
ATTACH;FMTTYPE=image/webp:https://www.linzag-sport.at/laufen/wp-content/uploads/sites/3/2025/03/Marathon-Logo-26-quer-angepasst.webp
ORGANIZER;CN="LIVA Sport & Linz Donau Marathon":MAILTO:linzmarathon@liva.linz.at
END:VEVENT
BEGIN:VEVENT
DTSTART;TZID=Europe/Vienna:20251231T140000
DTEND;TZID=Europe/Vienna:20251231T170000
DTSTAMP:20260421T192921
CREATED:20241023T102843Z
LAST-MODIFIED:20241023T112024Z
UID:10001603-1767189600-1767200400@www.linzag-sport.at
SUMMARY:HYPO Silvesterlauf
DESCRIPTION:Auf geht’s zum großen HYPO Silvesterlauf 2024 in Linz!\nEr gehört zu Linz wie die Donau – der Silvesterlauf! Seit vielen Jahr der\ntraditionelle Jahresabschluss und der größte Volkslauf ins neue Jahr in OÖ. \nAuch 2024 werden wieder knapp 1.000 Läufer und Läuferinnen von 3-99 in\nder Innenstadt das alte Jahr sportlich verabschieden.\nKinderläufe und Hobbylauf (3km) sowie der Hauptlauf über 6km locken erneut\nviele Verkleidete und kreative Kostüm-Meister auf den Hauptplatz! \nMacht auch mit – lasst euch den Spaß nicht entgehen! Wir vom Team TriRun und\nder HYPO OÖ freuen uns auf eure Teilnahme am 31. Dezember 2024!
URL:https://www.linzag-sport.at/laufen/event/15755/2025-12-31/
LOCATION:Hauptplatz Linz\, OÖ\, Austria
CATEGORIES:Laufen
ORGANIZER;CN="TriRun Linz":MAILTO:office@trirun.at
END:VEVENT
BEGIN:VEVENT
DTSTART;TZID=Europe/Vienna:20241231T140000
DTEND;TZID=Europe/Vienna:20241231T170000
DTSTAMP:20260421T192921
CREATED:20241023T102843Z
LAST-MODIFIED:20241023T112024Z
UID:10001602-1735653600-1735664400@www.linzag-sport.at
SUMMARY:HYPO Silvesterlauf
DESCRIPTION:Auf geht’s zum großen HYPO Silvesterlauf 2024 in Linz!\nEr gehört zu Linz wie die Donau – der Silvesterlauf! Seit vielen Jahr der\ntraditionelle Jahresabschluss und der größte Volkslauf ins neue Jahr in OÖ. \nAuch 2024 werden wieder knapp 1.000 Läufer und Läuferinnen von 3-99 in\nder Innenstadt das alte Jahr sportlich verabschieden.\nKinderläufe und Hobbylauf (3km) sowie der Hauptlauf über 6km locken erneut\nviele Verkleidete und kreative Kostüm-Meister auf den Hauptplatz! \nMacht auch mit – lasst euch den Spaß nicht entgehen! Wir vom Team TriRun und\nder HYPO OÖ freuen uns auf eure Teilnahme am 31. Dezember 2024!
URL:https://www.linzag-sport.at/laufen/event/15755/2024-12-31/
LOCATION:Hauptplatz Linz\, OÖ\, Austria
CATEGORIES:Laufen
ORGANIZER;CN="TriRun Linz":MAILTO:office@trirun.at
END:VEVENT
END:VCALENDAR