BEGIN:VCALENDAR
VERSION:2.0
PRODID:-//laufen - ECPv6.12.0.1//NONSGML v1.0//EN
CALSCALE:GREGORIAN
METHOD:PUBLISH
X-WR-CALNAME:laufen
X-ORIGINAL-URL:https://www.linzag-sport.at/laufen
X-WR-CALDESC:Veranstaltungen für laufen
REFRESH-INTERVAL;VALUE=DURATION:PT1H
X-Robots-Tag:noindex
X-PUBLISHED-TTL:PT1H
BEGIN:VTIMEZONE
TZID:Europe/Vienna
BEGIN:DAYLIGHT
TZOFFSETFROM:+0100
TZOFFSETTO:+0200
TZNAME:CEST
DTSTART:20250330T010000
END:DAYLIGHT
BEGIN:STANDARD
TZOFFSETFROM:+0200
TZOFFSETTO:+0100
TZNAME:CET
DTSTART:20251026T010000
END:STANDARD
END:VTIMEZONE
BEGIN:VEVENT
DTSTART;TZID=Europe/Vienna:20250903T190000
DTEND;TZID=Europe/Vienna:20250903T210000
DTSTAMP:20260421T211623
CREATED:20250717T071917Z
LAST-MODIFIED:20250717T071917Z
UID:10001794-1756926000-1756933200@www.linzag-sport.at
SUMMARY:WKO Business Lauf 2025
DESCRIPTION:
URL:https://www.linzag-sport.at/laufen/event/wko-business-lauf-2025/
LOCATION:Linzer Pichlingersee
CATEGORIES:Laufen
END:VEVENT
END:VCALENDAR