BEGIN:VCALENDAR
VERSION:2.0
PRODID:-//laufen - ECPv6.12.0.1//NONSGML v1.0//EN
CALSCALE:GREGORIAN
METHOD:PUBLISH
X-WR-CALNAME:laufen
X-ORIGINAL-URL:https://www.linzag-sport.at/laufen
X-WR-CALDESC:Veranstaltungen für laufen
REFRESH-INTERVAL;VALUE=DURATION:PT1H
X-Robots-Tag:noindex
X-PUBLISHED-TTL:PT1H
BEGIN:VTIMEZONE
TZID:Europe/Vienna
BEGIN:DAYLIGHT
TZOFFSETFROM:+0100
TZOFFSETTO:+0200
TZNAME:CEST
DTSTART:20260329T010000
END:DAYLIGHT
BEGIN:STANDARD
TZOFFSETFROM:+0200
TZOFFSETTO:+0100
TZNAME:CET
DTSTART:20261025T010000
END:STANDARD
END:VTIMEZONE
BEGIN:VEVENT
DTSTART;TZID=Europe/Vienna:20260128T180000
DTEND;TZID=Europe/Vienna:20260128T220000
DTSTAMP:20260421T211344
CREATED:20241210T145254Z
LAST-MODIFIED:20260109T082041Z
UID:10001676-1769623200-1769637600@www.linzag-sport.at
SUMMARY:Jahresvorschaufeier 2026
DESCRIPTION:
URL:https://www.linzag-sport.at/laufen/event/jahresvorschaufeier-2025/
LOCATION:Volkshaus Dornach\, Linz\, OÖ\, 4040\, Austria
CATEGORIES:Laufen
END:VEVENT
END:VCALENDAR