BEGIN:VCALENDAR
VERSION:2.0
PRODID:-//laufen - ECPv6.12.0.1//NONSGML v1.0//EN
CALSCALE:GREGORIAN
METHOD:PUBLISH
X-ORIGINAL-URL:https://www.linzag-sport.at/laufen
X-WR-CALDESC:Veranstaltungen für laufen
REFRESH-INTERVAL;VALUE=DURATION:PT1H
X-Robots-Tag:noindex
X-PUBLISHED-TTL:PT1H
BEGIN:VTIMEZONE
TZID:Europe/Vienna
BEGIN:DAYLIGHT
TZOFFSETFROM:+0100
TZOFFSETTO:+0200
TZNAME:CEST
DTSTART:20250330T010000
END:DAYLIGHT
BEGIN:STANDARD
TZOFFSETFROM:+0200
TZOFFSETTO:+0100
TZNAME:CET
DTSTART:20251026T010000
END:STANDARD
END:VTIMEZONE
BEGIN:VEVENT
DTSTART;TZID=Europe/Vienna:20251011T140000
DTEND;TZID=Europe/Vienna:20251011T200000
DTSTAMP:20260422T025710
CREATED:20250717T073147Z
LAST-MODIFIED:20250717T073147Z
UID:10001798-1760191200-1760212800@www.linzag-sport.at
SUMMARY:Ottensheim Donaulauf "Vereinsmeisterschaft" 2025
DESCRIPTION:
URL:https://www.linzag-sport.at/laufen/event/ottensheim-donaulauf-vereinsmeisterschaft-2025/
LOCATION:DONAUHALLE Ottensheim\, Sportplatzstraße 1\, Ottensheim\, OÖ\, 4100\, Austria
CATEGORIES:Laufen
END:VEVENT
END:VCALENDAR