BEGIN:VCALENDAR
VERSION:2.0
PRODID:-//laufen - ECPv6.12.0.1//NONSGML v1.0//EN
CALSCALE:GREGORIAN
METHOD:PUBLISH
X-WR-CALNAME:laufen
X-ORIGINAL-URL:https://www.linzag-sport.at/laufen
X-WR-CALDESC:Veranstaltungen für laufen
REFRESH-INTERVAL;VALUE=DURATION:PT1H
X-Robots-Tag:noindex
X-PUBLISHED-TTL:PT1H
BEGIN:VTIMEZONE
TZID:Europe/Vienna
BEGIN:DAYLIGHT
TZOFFSETFROM:+0100
TZOFFSETTO:+0200
TZNAME:CEST
DTSTART:20250330T010000
END:DAYLIGHT
BEGIN:STANDARD
TZOFFSETFROM:+0200
TZOFFSETTO:+0100
TZNAME:CET
DTSTART:20251026T010000
END:STANDARD
END:VTIMEZONE
BEGIN:VEVENT
DTSTART;TZID=Europe/Vienna:20250607T080000
DTEND;TZID=Europe/Vienna:20250608T170000
DTSTAMP:20260422T133604
CREATED:20241023T104602Z
LAST-MODIFIED:20250311T063549Z
UID:10001608-1749283200-1749402000@www.linzag-sport.at
SUMMARY:MTB-Granitmarathon
DESCRIPTION:MTB-Granitmarathon\nDie Mühlviertler Hügellandschaft prägt mir ihren tiefen Flusstälern und zahlreichen Granitsteinbrüchen\nden Streckenverlauf des Granitmarathons und bietet die ideale Kulisse für ein unvergessliches Rennwochenende. \n\n\n\n\n\n\n\nÜber 700 Teilnehmer und zahlreiche Zuschauer entlang der Strecke sorgen für eine spektakuläre Atmosphäre. \n\n\n\n\n\n\n\n\n\n\n\nAuf vier verschiedenen Strecken können sowohl Hobby- als auch Elitebiker an ihre Grenzen gehen. \n\n\n\n\n\n\n\n\n\n\n\nBei den Nachwuchsrennen zeigen die jungen Biker auf altersgerechten Strecken ihr Können. \n  \nAusschreibung & Anmeldung\n \n 
URL:https://www.linzag-sport.at/laufen/event/mtb-granitmarathon/
LOCATION:Kleinzell\, OÖ\, Austria
CATEGORIES:Laufen
ATTACH;FMTTYPE=image/png:https://www.linzag-sport.at/laufen/wp-content/uploads/sites/3/2024/10/2025-03-10-10_32_37-Granitmarathon-–-MTB-Marathon-Kleinzell.png
ORGANIZER;CN="SPORTKLUB KLEINZELL":MAILTO:office@granitmarathon.at
END:VEVENT
BEGIN:VEVENT
DTSTART;TZID=Europe/Vienna:20250613T200000
DTEND;TZID=Europe/Vienna:20250614T030000
DTSTAMP:20260422T133604
CREATED:20250310T094716Z
LAST-MODIFIED:20250311T064600Z
UID:10001790-1749844800-1749870000@www.linzag-sport.at
SUMMARY:DHL Linz Airport Night Run
DESCRIPTION:  \nAusschreibung & Anmeldung
URL:https://www.linzag-sport.at/laufen/event/dhl-linz-airport-night-run/
LOCATION:Linz Airport\, Flughafenstraße 1\, Hörsching\, OÖ\, 4063\, Austria
CATEGORIES:Laufen
ATTACH;FMTTYPE=image/png:https://www.linzag-sport.at/laufen/wp-content/uploads/sites/3/2025/03/0149_24_00012_Grafik_NIGHTRUN_2025_quer_sm.png
ORGANIZER;CN="Juliverse GmbH":MAILTO:info(at)airportnightrun.at
END:VEVENT
BEGIN:VEVENT
DTSTART;TZID=Europe/Vienna:20250615T063000
DTEND;TZID=Europe/Vienna:20250615T183000
DTSTAMP:20260422T133604
CREATED:20250311T073803Z
LAST-MODIFIED:20250311T075622Z
UID:10001791-1749969000-1750012200@www.linzag-sport.at
SUMMARY:Mondsee 5 Seen Radmarathon
DESCRIPTION:Strecken & Startzeiten:\n\nTour A: 200 km\, 2.600 Höhenmeter\, Start um 6:30 Uhr\nTour B: 140 km\, 1.400 Höhenmeter\, Start um 7:00 Uhr\nTour C: 75 km\, 400 Höhenmeter\, Start um 7:50 Uhr\nHandbike: 25 km\, 60 Höhenmeter\, Start um 7:30 Uhr\n\nAnmeldegebühren:\n\nStandardgebühr: €60 (variiert je nach Zahlungsdatum)\nHandbike-Gebühr: €30\nSpätanmeldung: Bis zu €90\n\nWichtige Informationen:\n\nAnmeldeschluss: 12. Juni 2025\nSpätanmeldung: Möglich am 14.-15. Juni 2025\nStartnummernausgabe:\n\n14. Juni: 14:00 – 18:00 Uhr\n\n\nJuni: Ab 5:30 Uhr bis zur Startzeit\n\n\n\n\nStart/Ziel: Befindet sich an der Seeallee\n\nZusätzliche Hinweise:\n\nZeitlimits: Bestimmte Kontrollpunkte mit Zeitlimits\nSicherheit: Neutralisierte Abschnitte zur Sicherheit\, Einhaltung der Verkehrsregeln erforderlich\n\n  \nAusschreibung & Anmeldung
URL:https://www.linzag-sport.at/laufen/event/mondsee-5-seen-radmarathon/
LOCATION:Mondsee\, Mondsee\, OÖ\, 5310\, Austria
CATEGORIES:Laufen
ATTACH;FMTTYPE=image/png:https://www.linzag-sport.at/laufen/wp-content/uploads/sites/3/2025/03/logo.png
END:VEVENT
BEGIN:VEVENT
DTSTART;TZID=Europe/Vienna:20250622T070000
DTEND;TZID=Europe/Vienna:20250622T130000
DTSTAMP:20260422T133604
CREATED:20250311T075020Z
LAST-MODIFIED:20250311T075749Z
UID:10001792-1750575600-1750597200@www.linzag-sport.at
SUMMARY:Der ÖGK Frauenlauf
DESCRIPTION:Der ÖGK Frauenlauf am Linzer Pichlinger See findet am Sonntag\, 22. Juni 2025 statt.\n\n\n\n\nIm Jahr 1999 hat alles mit 200 Pionierinnen beim Frauenlauf begonnen. 2017 zählte der Linzer Frauenlauf bereits fast 800 Anmeldungen. \nAuf einer Strecke von 3\,4 KM (1 x eine Runde um den See) sowie von 6\,8 KM (2 Runden um den See) messen sich alle laufbegeisterten Damen am Linzer Pichlinger See. Natürlich gibt es für die Damen im Vorfeld einen NordicWalking Bewerb (3\,4 KM) sowie Kinderläufe mit Altersgerechten Distanzen. \nIn erster Linie zählt beim ÖGK Frauenlauf Linz nicht der Leistungsgedanke\, sondern die Freude an der Bewegung. \nWER DARF MITLAUFEN? \nAlle Frauen die Spaß am Laufen haben. \n  \n\nAnmeldung
URL:https://www.linzag-sport.at/laufen/event/20176/
LOCATION:Linzer Pichlingersee
CATEGORIES:Laufen
ATTACH;FMTTYPE=image/png:https://www.linzag-sport.at/laufen/wp-content/uploads/sites/3/2025/03/2025-03-11-08_49_26-Home-OeGK-Frauenlauf-Linz.png
ORGANIZER;CN="ASK%C3%96 Tri Linz":MAILTO:frauenlauf@liwest.at
END:VEVENT
BEGIN:VEVENT
DTSTART;TZID=Europe/Vienna:20250627T180000
DTEND;TZID=Europe/Vienna:20250627T193000
DTSTAMP:20260422T133604
CREATED:20240624T064841Z
LAST-MODIFIED:20250311T075419Z
UID:10000808-1751047200-1751052600@www.linzag-sport.at
SUMMARY:OÖ Firmentriathlon
DESCRIPTION:Am 27. Juni steigt am Pichlingersee im Zuge des LINZ AG Supersportwochenendes der Firmentriathlon.\nHier werden die 3 Disziplinen Schwimmen – Radfahren und Laufen auf 3 Kollegen aufgeteilt.\nDas fördert den Teamgeist und macht so richtig Spaß. Anschließend gibt es die Siegerehrung mit garantiert toller Stimmung.
URL:https://www.linzag-sport.at/laufen/event/ooe-firmentriathlon/
LOCATION:Linzer Pichlingersee
CATEGORIES:Laufen
ATTACH;FMTTYPE=image/jpeg:https://www.linzag-sport.at/laufen/wp-content/uploads/sites/3/2024/06/logo_bar-scaled.jpg
END:VEVENT
END:VCALENDAR