BEGIN:VCALENDAR
VERSION:2.0
PRODID:-//Foto & Film - ECPv6.12.0.1//NONSGML v1.0//EN
CALSCALE:GREGORIAN
METHOD:PUBLISH
X-WR-CALNAME:Foto & Film
X-ORIGINAL-URL:https://www.linzag-sport.at/foto
X-WR-CALDESC:Veranstaltungen für Foto & Film
REFRESH-INTERVAL;VALUE=DURATION:PT1H
X-Robots-Tag:noindex
X-PUBLISHED-TTL:PT1H
BEGIN:VTIMEZONE
TZID:Europe/Vienna
BEGIN:DAYLIGHT
TZOFFSETFROM:+0100
TZOFFSETTO:+0200
TZNAME:CEST
DTSTART:20240331T010000
END:DAYLIGHT
BEGIN:STANDARD
TZOFFSETFROM:+0200
TZOFFSETTO:+0100
TZNAME:CET
DTSTART:20241027T010000
END:STANDARD
END:VTIMEZONE
BEGIN:VEVENT
DTSTART;TZID=Europe/Vienna:20241101T180000
DTEND;TZID=Europe/Vienna:20241130T190000
DTSTAMP:20260420T072849
CREATED:20240926T064719Z
LAST-MODIFIED:20240926T065221Z
UID:10001509-1730484000-1732993200@www.linzag-sport.at
SUMMARY:Clubabend zur Ausstellungs-Abstimmung - November
DESCRIPTION:
URL:https://www.linzag-sport.at/foto/event/clubabend-zur-ausstellungs-abstimmung-november/
LOCATION:Klubräume\, Holzstraße 11\, 4020
CATEGORIES:foto & film
ORGANIZER;CN="LinzAG- SEKTION FOTO & FILM":MAILTO:fotoundfilm@linzag.at
END:VEVENT
END:VCALENDAR