BEGIN:VCALENDAR
VERSION:2.0
PRODID:-//Foto & Film - ECPv6.12.0.1//NONSGML v1.0//EN
CALSCALE:GREGORIAN
METHOD:PUBLISH
X-WR-CALNAME:Foto & Film
X-ORIGINAL-URL:https://www.linzag-sport.at/foto
X-WR-CALDESC:Veranstaltungen für Foto & Film
REFRESH-INTERVAL;VALUE=DURATION:PT1H
X-Robots-Tag:noindex
X-PUBLISHED-TTL:PT1H
BEGIN:VTIMEZONE
TZID:Europe/Vienna
BEGIN:DAYLIGHT
TZOFFSETFROM:+0100
TZOFFSETTO:+0200
TZNAME:CEST
DTSTART:20250330T010000
END:DAYLIGHT
BEGIN:STANDARD
TZOFFSETFROM:+0200
TZOFFSETTO:+0100
TZNAME:CET
DTSTART:20251026T010000
END:STANDARD
END:VTIMEZONE
BEGIN:VEVENT
DTSTART;TZID=Europe/Vienna:20250523T160000
DTEND;TZID=Europe/Vienna:20250523T180000
DTSTAMP:20260419T230446
CREATED:20250423T130647Z
LAST-MODIFIED:20250423T130647Z
UID:10001805-1748016000-1748023200@www.linzag-sport.at
SUMMARY:Ausstellungsbesuch: Erwin Wurm - Photographic Sculptures
DESCRIPTION:Erwin Wurm zählt zu den international bekanntesten zeitgenössischen Kunstschaffenden Österreichs.\nDas FC Linz zeigt mit seinen fotografischen Werken einen Teil seines Œuvres\, der bisher nur selten zu sehen war.\nIn den 1980er- und 1990er-Jahren\, begann der Künstler das Konzept „Skulptur“ neu zu denken. Wurms ironische Dekonstruktion kunsthistorischer Gewissheiten führte schließlich zu einer Auffassung von Skulptur\, die Prozesshaftes\, Temporäres\, Ephemeres sowie Performatives einschließt.\n\nAusstellungsbesuch Erwin Wurm - Photographic Sculptures\n\nTERMIN: Freitag\, 23.05.25\nUHRZEIT: 16.00 Uhr\nORT: Francisco Carolinum Linz\, Museumstraße 14\, 4020 Linz \nTREFFPUNKT: vor dem Eingang\nKOSTEN: der Eintritt wird vom Club übernommen\nANMELDUNG: d.reinthaler@linzag.at
URL:https://www.linzag-sport.at/foto/event/ausstellungsbesuch-erwin-wurm-photographic-sculptures/
LOCATION:Francisco Carolinum Linz\, Museumstraße 14\, Linz\, 4020\, Austria
CATEGORIES:foto & film
ATTACH;FMTTYPE=image/jpeg:https://www.linzag-sport.at/foto/wp-content/uploads/sites/13/2025/04/ErwinWurm.jpg
ORGANIZER;CN="LinzAG- SEKTION FOTO & FILM":MAILTO:fotoundfilm@linzag.at
END:VEVENT
END:VCALENDAR