BEGIN:VCALENDAR
VERSION:2.0
PRODID:-//Berg &amp; action - ECPv6.12.0.1//NONSGML v1.0//EN
CALSCALE:GREGORIAN
METHOD:PUBLISH
X-WR-CALNAME:Berg &amp; action
X-ORIGINAL-URL:https://www.linzag-sport.at/berg-action
X-WR-CALDESC:Veranstaltungen für Berg &amp; action
REFRESH-INTERVAL;VALUE=DURATION:PT1H
X-Robots-Tag:noindex
X-PUBLISHED-TTL:PT1H
BEGIN:VTIMEZONE
TZID:Europe/Vienna
BEGIN:DAYLIGHT
TZOFFSETFROM:+0100
TZOFFSETTO:+0200
TZNAME:CEST
DTSTART:20250330T010000
END:DAYLIGHT
BEGIN:STANDARD
TZOFFSETFROM:+0200
TZOFFSETTO:+0100
TZNAME:CET
DTSTART:20251026T010000
END:STANDARD
END:VTIMEZONE
BEGIN:VEVENT
DTSTART;TZID=Europe/Vienna:20250111T090000
DTEND;TZID=Europe/Vienna:20250111T110000
DTSTAMP:20260422T084308
CREATED:20241015T103029Z
LAST-MODIFIED:20241212T065533Z
UID:10001529-1736586000-1736593200@www.linzag-sport.at
SUMMARY:Klettern Aufbaukurs (Vorstieg)
DESCRIPTION:Details zur Ausschreibung\n  \nTermine und Uhrzeit: 4 Samstage in Folge\, 11.1.25 – 1.2.2025\, Jeweils 09:00 – 11:00 \nOrt: Kletterhalle Linz/Auwiesen\, Auwiesenstr. 202\, 4030 Linz \nKursinhalt: Klettertechnik Spezial\, Seil- und Sicherungstechnik Vorstieg\, Klettertaktik\, Praxistest von verschiedenen Sicherungsgeräten \nTeilnehmeranzahl: Mind. 4 Teilnehmer*innen\, Max. 12 Teilnehmer*innen \nVoraussetzung für diesen Kurs: Naturfreundemitgliedschaft\, Freude an der Bewegung\, Grundkenntnisse im Klettern \nAusrüstung: bequeme und passende Sportkleidung\, Trinkflasche (keine Glasflaschen\, keine Kohlensäure) \nKosten pro Teilnehmer: 135\,00 € (Preis beinhaltet Kursleitung\, Leihmaterial\, Halleneintritt) \nAnmeldung: Anmeldung schriftlich per E-Mail an berg&action@linzag.at \nAnmeldeschluss: Montag\, 23.12.2024 \nRücktritt/Storno:\nAb 2 Wochen vor Kurbeginn beträgt die Stornogebühr 50% der Kurskosten.\nAb 1 Woche vor Kursbeginn beträgt die Stornogebühr 80% der Kurskosten.\nBei selbstverschuldetem ungerechtfertigtem Nichterscheinen bzw. Kursabbruch\, 100% der Kurskosten. \nKontaktperson: Peter Mittermayr E-Mail: berg&action@linzag.at\, Tel-DW: 3428
URL:https://www.linzag-sport.at/berg-action/event/klettern-aufbaukurs/2025-01-11/
CATEGORIES:Berg & Action
ATTACH;FMTTYPE=image/jpeg:https://www.linzag-sport.at/berg-action/wp-content/uploads/sites/2/2024/04/young-man-exercising-indoor-climbing-gym-1-scaled.jpg
END:VEVENT
BEGIN:VEVENT
DTSTART;TZID=Europe/Vienna:20250118T090000
DTEND;TZID=Europe/Vienna:20250118T110000
DTSTAMP:20260422T084308
CREATED:20241015T103029Z
LAST-MODIFIED:20241212T065533Z
UID:10001530-1737190800-1737198000@www.linzag-sport.at
SUMMARY:Klettern Aufbaukurs (Vorstieg)
DESCRIPTION:Details zur Ausschreibung\n  \nTermine und Uhrzeit: 4 Samstage in Folge\, 11.1.25 – 1.2.2025\, Jeweils 09:00 – 11:00 \nOrt: Kletterhalle Linz/Auwiesen\, Auwiesenstr. 202\, 4030 Linz \nKursinhalt: Klettertechnik Spezial\, Seil- und Sicherungstechnik Vorstieg\, Klettertaktik\, Praxistest von verschiedenen Sicherungsgeräten \nTeilnehmeranzahl: Mind. 4 Teilnehmer*innen\, Max. 12 Teilnehmer*innen \nVoraussetzung für diesen Kurs: Naturfreundemitgliedschaft\, Freude an der Bewegung\, Grundkenntnisse im Klettern \nAusrüstung: bequeme und passende Sportkleidung\, Trinkflasche (keine Glasflaschen\, keine Kohlensäure) \nKosten pro Teilnehmer: 135\,00 € (Preis beinhaltet Kursleitung\, Leihmaterial\, Halleneintritt) \nAnmeldung: Anmeldung schriftlich per E-Mail an berg&action@linzag.at \nAnmeldeschluss: Montag\, 23.12.2024 \nRücktritt/Storno:\nAb 2 Wochen vor Kurbeginn beträgt die Stornogebühr 50% der Kurskosten.\nAb 1 Woche vor Kursbeginn beträgt die Stornogebühr 80% der Kurskosten.\nBei selbstverschuldetem ungerechtfertigtem Nichterscheinen bzw. Kursabbruch\, 100% der Kurskosten. \nKontaktperson: Peter Mittermayr E-Mail: berg&action@linzag.at\, Tel-DW: 3428
URL:https://www.linzag-sport.at/berg-action/event/klettern-aufbaukurs/2025-01-18/
CATEGORIES:Berg & Action
ATTACH;FMTTYPE=image/jpeg:https://www.linzag-sport.at/berg-action/wp-content/uploads/sites/2/2024/04/young-man-exercising-indoor-climbing-gym-1-scaled.jpg
END:VEVENT
BEGIN:VEVENT
DTSTART;TZID=Europe/Vienna:20250125T090000
DTEND;TZID=Europe/Vienna:20250125T110000
DTSTAMP:20260422T084308
CREATED:20241015T103029Z
LAST-MODIFIED:20241212T065533Z
UID:10001531-1737795600-1737802800@www.linzag-sport.at
SUMMARY:Klettern Aufbaukurs (Vorstieg)
DESCRIPTION:Details zur Ausschreibung\n  \nTermine und Uhrzeit: 4 Samstage in Folge\, 11.1.25 – 1.2.2025\, Jeweils 09:00 – 11:00 \nOrt: Kletterhalle Linz/Auwiesen\, Auwiesenstr. 202\, 4030 Linz \nKursinhalt: Klettertechnik Spezial\, Seil- und Sicherungstechnik Vorstieg\, Klettertaktik\, Praxistest von verschiedenen Sicherungsgeräten \nTeilnehmeranzahl: Mind. 4 Teilnehmer*innen\, Max. 12 Teilnehmer*innen \nVoraussetzung für diesen Kurs: Naturfreundemitgliedschaft\, Freude an der Bewegung\, Grundkenntnisse im Klettern \nAusrüstung: bequeme und passende Sportkleidung\, Trinkflasche (keine Glasflaschen\, keine Kohlensäure) \nKosten pro Teilnehmer: 135\,00 € (Preis beinhaltet Kursleitung\, Leihmaterial\, Halleneintritt) \nAnmeldung: Anmeldung schriftlich per E-Mail an berg&action@linzag.at \nAnmeldeschluss: Montag\, 23.12.2024 \nRücktritt/Storno:\nAb 2 Wochen vor Kurbeginn beträgt die Stornogebühr 50% der Kurskosten.\nAb 1 Woche vor Kursbeginn beträgt die Stornogebühr 80% der Kurskosten.\nBei selbstverschuldetem ungerechtfertigtem Nichterscheinen bzw. Kursabbruch\, 100% der Kurskosten. \nKontaktperson: Peter Mittermayr E-Mail: berg&action@linzag.at\, Tel-DW: 3428
URL:https://www.linzag-sport.at/berg-action/event/klettern-aufbaukurs/2025-01-25/
CATEGORIES:Berg & Action
ATTACH;FMTTYPE=image/jpeg:https://www.linzag-sport.at/berg-action/wp-content/uploads/sites/2/2024/04/young-man-exercising-indoor-climbing-gym-1-scaled.jpg
END:VEVENT
END:VCALENDAR