BEGIN:VCALENDAR
VERSION:2.0
PRODID:-//Berg &amp; action - ECPv6.12.0.1//NONSGML v1.0//EN
CALSCALE:GREGORIAN
METHOD:PUBLISH
X-WR-CALNAME:Berg &amp; action
X-ORIGINAL-URL:https://www.linzag-sport.at/berg-action
X-WR-CALDESC:Veranstaltungen für Berg &amp; action
REFRESH-INTERVAL;VALUE=DURATION:PT1H
X-Robots-Tag:noindex
X-PUBLISHED-TTL:PT1H
BEGIN:VTIMEZONE
TZID:Europe/Vienna
BEGIN:DAYLIGHT
TZOFFSETFROM:+0100
TZOFFSETTO:+0200
TZNAME:CEST
DTSTART:20240331T010000
END:DAYLIGHT
BEGIN:STANDARD
TZOFFSETFROM:+0200
TZOFFSETTO:+0100
TZNAME:CET
DTSTART:20241027T010000
END:STANDARD
END:VTIMEZONE
BEGIN:VEVENT
DTSTART;TZID=Europe/Vienna:20241207T090000
DTEND;TZID=Europe/Vienna:20241207T110000
DTSTAMP:20260422T120642
CREATED:20241202T111645Z
LAST-MODIFIED:20241202T111837Z
UID:10001527-1733562000-1733569200@www.linzag-sport.at
SUMMARY:Klettern Grundkurs Vertiefungsmodul
DESCRIPTION:Kursinhalte\n\n\nRichtiges Handhaben des Sicherungsgerätes\nTesten verschiedener Sicherungsgeräte\nRichtiges setzen des Körperschwerpunkts\nWiederholung der Steig- und Tritt-techniken\nTechniken zum kraftsparenden Klettern (Vorbereitung zum Vorstieg-Kurs)\nKursdauer: 2 Termine à 2 Std\n\n  \n\nVoraussetzung\n\nAbsolvierter Erwachsenen Kletter-Grundkurs wird empfohlen \n  \nDetails zur Ausschreibung:\nAusschreibung_Klettern_Vertiefungskurs_Modul_1_5
URL:https://www.linzag-sport.at/berg-action/event/klettern-grundkurs-vertiefungsmodul-2/
CATEGORIES:Berg & Action
ATTACH;FMTTYPE=image/jpeg:https://www.linzag-sport.at/berg-action/wp-content/uploads/sites/2/2024/07/20230210_161828-1-scaled-e1733138274382.jpg
END:VEVENT
END:VCALENDAR