BEGIN:VCALENDAR
VERSION:2.0
PRODID:-//Berg &amp; action - ECPv6.12.0.1//NONSGML v1.0//EN
CALSCALE:GREGORIAN
METHOD:PUBLISH
X-ORIGINAL-URL:https://www.linzag-sport.at/berg-action
X-WR-CALDESC:Veranstaltungen für Berg &amp; action
REFRESH-INTERVAL;VALUE=DURATION:PT1H
X-Robots-Tag:noindex
X-PUBLISHED-TTL:PT1H
BEGIN:VTIMEZONE
TZID:Europe/Vienna
BEGIN:DAYLIGHT
TZOFFSETFROM:+0100
TZOFFSETTO:+0200
TZNAME:CEST
DTSTART:20250330T010000
END:DAYLIGHT
BEGIN:STANDARD
TZOFFSETFROM:+0200
TZOFFSETTO:+0100
TZNAME:CET
DTSTART:20251026T010000
END:STANDARD
END:VTIMEZONE
BEGIN:VEVENT
DTSTART;TZID=Europe/Vienna:20250906T070000
DTEND;TZID=Europe/Vienna:20250906T170000
DTSTAMP:20260419T164012
CREATED:20250711T084927Z
LAST-MODIFIED:20250711T084947Z
UID:10001881-1757142000-1757178000@www.linzag-sport.at
SUMMARY:Wanderung Brunnkogel - Hochleckenkogel
DESCRIPTION:Beschreibung \nEine Wanderung über das Hochleckenhaus und den Hochleckenkogel zum Brunnkogel. \nBelohnung ist der tolle Ausblick auf den Attersee und eine kräftige Jause. \nWann: Samstag\, 06.09.2025\, Ersatztermin: Samstag\, 04.10.2025 \nAuf- und Abstieg: ca. 1150 hm\, Distanz  ca. 16 km \nDauer der Wanderung: ca. 8 Stunden \nTeilnehmeranzahl: Max. 15 Teilnehmer*innen\, Keinen Mindestteilnehmer \nAusrüstung: Festes Schuhwerk\, Bekleidung dem Wetter angepasst. Ausreichend Getränke und Verpflegung. \nVoraussetzung: Sehr gute Grundkondition erforderlich. Gute Trittsicherheit. Mitgliedschaft LINZ AG Sport. \nAnmeldeschluss: Donnerstag\, 04.09.2025 \nUnkostenbeitrag: 10 Euro für Sektionsmitglieder\, 15€ für Nicht-Mitglieder (im Voraus zu bezahlen)
URL:https://www.linzag-sport.at/berg-action/event/wanderung-brunnkogel-hochleckenkogel/
CATEGORIES:Berg & Action
ATTACH;FMTTYPE=image/jpeg:https://www.linzag-sport.at/berg-action/wp-content/uploads/sites/2/2025/07/Brunnkogel-Gipfelkreuz.jpg
END:VEVENT
END:VCALENDAR