BEGIN:VCALENDAR
VERSION:2.0
PRODID:-//Berg &amp; action - ECPv6.12.0.1//NONSGML v1.0//EN
CALSCALE:GREGORIAN
METHOD:PUBLISH
X-ORIGINAL-URL:https://www.linzag-sport.at/berg-action
X-WR-CALDESC:Veranstaltungen für Berg &amp; action
REFRESH-INTERVAL;VALUE=DURATION:PT1H
X-Robots-Tag:noindex
X-PUBLISHED-TTL:PT1H
BEGIN:VTIMEZONE
TZID:Europe/Vienna
BEGIN:DAYLIGHT
TZOFFSETFROM:+0100
TZOFFSETTO:+0200
TZNAME:CEST
DTSTART:20250330T010000
END:DAYLIGHT
BEGIN:STANDARD
TZOFFSETFROM:+0200
TZOFFSETTO:+0100
TZNAME:CET
DTSTART:20251026T010000
END:STANDARD
END:VTIMEZONE
BEGIN:VEVENT
DTSTART;VALUE=DATE:20250330
DTEND;VALUE=DATE:20250331
DTSTAMP:20260419T211651
CREATED:20250310T133522Z
LAST-MODIFIED:20250311T070154Z
UID:10001793-1743292800-1743379199@www.linzag-sport.at
SUMMARY:Wanderung Herrgottsitz
DESCRIPTION:Alternativtermin: Sa. 05.04.2025 \nTreffpunkt: Schönau im Mühlkreis – Ortszentrum\nBei Fahrgemeinschaften eigene Treffpunkte vereinbaren. \nBeschreibung: \nEine wunderschöne Wanderung im Mühlviertel.\nVon Schönau im Mühlkreis nehmen wir den Johannesweg – zum Herrgottsitz.\nÜber Peherdorf geht’s wieder zurück nach Schönau. \nAufstieg: ca. 330 hm Distanz ca. 9 km \nDauer der Wanderung: ca. 2\,5 Stunden \nTeilnehmeranzahl: Max. 15 Teilnehmer*innen\, Keinen Mindestteilnehmer \nAusrüstung: Festes Schuhwerk\, Bekleidung dem Wetter angepasst\, ausreichend Getränke und Verpflegung \nVoraussetzung: Genusstour für Anfänger (und Kinder) geeignet \nAnmeldung: per E-Mail an berg&action@linzag.at \nWanderführer: Michael Larnhofer\nE-Mail: m.larnhofer@linzag.at\, Tel-DW: 8449 \nAnmeldeschluss Donnerstag\, 27.03.2025 \nUnkostenbeitrag: 10 Euro (im Voraus zu bezahlen)
URL:https://www.linzag-sport.at/berg-action/event/wanderung-herrgottsitz/
CATEGORIES:Berg & Action
ATTACH;FMTTYPE=image/jpeg:https://www.linzag-sport.at/berg-action/wp-content/uploads/sites/2/2025/03/Herrgottsitz.jpg
END:VEVENT
END:VCALENDAR