BEGIN:VCALENDAR
VERSION:2.0
PRODID:-//Berg &amp; action - ECPv6.12.0.1//NONSGML v1.0//EN
CALSCALE:GREGORIAN
METHOD:PUBLISH
X-ORIGINAL-URL:https://www.linzag-sport.at/berg-action
X-WR-CALDESC:Veranstaltungen für Berg &amp; action
REFRESH-INTERVAL;VALUE=DURATION:PT1H
X-Robots-Tag:noindex
X-PUBLISHED-TTL:PT1H
BEGIN:VTIMEZONE
TZID:Europe/Vienna
BEGIN:DAYLIGHT
TZOFFSETFROM:+0100
TZOFFSETTO:+0200
TZNAME:CEST
DTSTART:20250330T010000
END:DAYLIGHT
BEGIN:STANDARD
TZOFFSETFROM:+0200
TZOFFSETTO:+0100
TZNAME:CET
DTSTART:20251026T010000
END:STANDARD
END:VTIMEZONE
BEGIN:VEVENT
DTSTART;VALUE=DATE:20250629
DTEND;VALUE=DATE:20250630
DTSTAMP:20260419T163517
CREATED:20250407T081142Z
LAST-MODIFIED:20250422T100617Z
UID:10001798-1751155200-1751241599@www.linzag-sport.at
SUMMARY:Wanderung Zeitschenberg inkl. Mentaleinheit
DESCRIPTION:Beschreibung \nAusgehend vom Parkplatz Zickerreith wandern wir über die Kreuzalm auf einer Forstraße mit Rundum-Panoramablick auf die Zeitschenbergalm.  Ein Rundum-Ausblick\, der seines Gleichens sucht und zu einer Mentaleinheit (Yoga\, Qi Gong) einlädt. Alternativ dazu kann über einen Jagasteig die höchste Erhebung des Zeitschenbergs erobert werden. \nAufstieg: ca. 480 hm\, Distanz Auf- und Abstieg ca. 9 km \nDauer der Wanderung (Auf- und Abstieg): ca. 3h Gehzeit (ohne Mentaleinheit bzw. Gipfel) \n  \nWann: Sonntag\, 29.06.2025\, Ersatztermin: Samstag\, 12.07.2025 \nTreffpunkt: LINZ AG-Center (Wiener Straße 151)\, Pendlerparkplatz Ebelsberg oder Parkplatz Zickerreith \nAbfahrtszeit\, bzw. die Uhrzeit für den Treffpunkt werden nach Anmeldung bekannt gegeben. \nDie Anreise erfolgt in Fahrgemeinschaften \nTeilnehmeranzahl: max. 15 Teilnehmer*innen\, min. 5 Teilnehmer*innen \nAusrüstung: Festes Schuhwerk\, Bekleidung dem Wetter angepasst\, ausreichend Getränke und Verpflegung \n  \nVoraussetzung: gute Grundlagenausdauer\, Trittsicherheit für den Gipfelbereich \nAnmeldung: per E-Mail an berg&action@linzag.at \nWanderführerin: Doris Derflinger\, E-Mail: d.derflinger@linzag.at\, Tel-DW: 7993 \nAnmeldeschluss: 26.06.2025 \nUnkostenbeitrag: 10 Euro für Sektionsmitglieder\, 15 Euro für Nicht-Mitglieder (im Voraus zu bezahlen) \n 
URL:https://www.linzag-sport.at/berg-action/event/wanderung-zeitschenberg-inkl-mentaleinheit/
CATEGORIES:Berg & Action
ATTACH;FMTTYPE=image/jpeg:https://www.linzag-sport.at/berg-action/wp-content/uploads/sites/2/2025/04/Zeitschenberg.jpeg
END:VEVENT
END:VCALENDAR